BEGIN:VCALENDAR
VERSION:2.0
BEGIN:VEVENT
DTSTART;TZID=Europe/Stockholm:20491013T140000
DTEND;TZID=Europe/Stockholm:20491013T150000
DTSTAMP:20260422T095242
DESCRIPTION:Öppet 14.00-17.00
SEQUENCE:0
SUMMARY:Loppis
UID:8934@lawebb.se
END:VEVENT
END:VCALENDARBEGIN:VCALENDAR
VERSION:2.0
BEGIN:VEVENT
DTSTART;TZID=Europe/Stockholm:20251210T140000
DTEND;TZID=Europe/Stockholm:20251210T150000
DTSTAMP:20260422T122043
DESCRIPTION:Öppet 14.00-17.00
SEQUENCE:0
SUMMARY:Loppis
UID:4975@lawebb.se
END:VEVENT
END:VCALENDAR