BEGIN:VCALENDAR
VERSION:2.0
BEGIN:VEVENT
DTSTART;TZID=Europe/Stockholm:20441217T100000
DTEND;TZID=Europe/Stockholm:20441217T110000
DTSTAMP:20260422T110536
DESCRIPTION:Öppet 10.00 - 12.00
SEQUENCE:0
SUMMARY:Loppis
UID:7273@lawebb.se
END:VEVENT
END:VCALENDARBEGIN:VCALENDAR
VERSION:2.0
BEGIN:VEVENT
DTSTART;TZID=Europe/Stockholm:20251213T100000
DTEND;TZID=Europe/Stockholm:20251213T110000
DTSTAMP:20260422T122013
DESCRIPTION:Öppet 10.00 - 12.00
SEQUENCE:0
SUMMARY:Loppis
UID:8459@lawebb.se
END:VEVENT
END:VCALENDAR