BEGIN:VCALENDAR
VERSION:2.0
BEGIN:VEVENT
DTSTART;TZID=Europe/Stockholm:20251214T180000
DTEND;TZID=Europe/Stockholm:20251214T190000
DTSTAMP:20260422T121640
DESCRIPTION:3e Advent. Servering
SEQUENCE:0
SUMMARY:Julkonsert ”Hope for us all”
UID:5274@lawebb.se
END:VEVENT
END:VCALENDAR