BEGIN:VCALENDAR
VERSION:2.0
BEGIN:VEVENT
DTSTART;TZID=Europe/Stockholm:20251219T190000
DTEND;TZID=Europe/Stockholm:20251219T200000
DTSTAMP:20260422T121854
DESCRIPTION:Sång av OLW
SEQUENCE:0
SUMMARY:Sinnesrogudstjänst i Ramundeboda
UID:4433@lawebb.se
END:VEVENT
END:VCALENDAR