BEGIN:VCALENDAR
VERSION:2.0
BEGIN:VEVENT
DTSTART;TZID=Europe/Stockholm:20251221T100000
DTEND;TZID=Europe/Stockholm:20251221T110000
DTSTAMP:20260422T121726
DESCRIPTION:4e Advent
SEQUENCE:0
SUMMARY:Gudstjänst med Ned Modesha
UID:8346@lawebb.se
END:VEVENT
END:VCALENDAR