BEGIN:VCALENDAR
VERSION:2.0
BEGIN:VEVENT
DTSTART;TZID=Europe/Stockholm:20251225T070000
DTEND;TZID=Europe/Stockholm:20251225T080000
DTSTAMP:20260422T121636
DESCRIPTION:
SEQUENCE:0
SUMMARY:Julotta i Ramundeboda kyrka
UID:8226@lawebb.se
END:VEVENT
END:VCALENDAR