BEGIN:VCALENDAR
VERSION:2.0
BEGIN:VEVENT
DTSTART;TZID=Europe/Stockholm:20251226T110000
DTEND;TZID=Europe/Stockholm:20251226T120000
DTSTAMP:20260422T121959
DESCRIPTION:Med fam. Pilkvist o vänner
SEQUENCE:0
SUMMARY:Julgudstjänst i Tallstigskyrkan
UID:9998@lawebb.se
END:VEVENT
END:VCALENDAR