BEGIN:VCALENDAR
VERSION:2.0
BEGIN:VEVENT
DTSTART;TZID=Europe/Stockholm:20260111T100000
DTEND;TZID=Europe/Stockholm:20260111T110000
DTSTAMP:20260422T103114
DESCRIPTION:Thomas Mustonen
SEQUENCE:0
SUMMARY:Gudstjänst med församlingsmöte
UID:6773@lawebb.se
END:VEVENT
END:VCALENDAR