BEGIN:VCALENDAR
VERSION:2.0
BEGIN:VEVENT
DTSTART;TZID=Europe/Stockholm:20260113T190000
DTEND;TZID=Europe/Stockholm:20260113T200000
DTSTAMP:20260422T102906
DESCRIPTION:
SEQUENCE:0
SUMMARY:Bönetimman
UID:8367@lawebb.se
END:VEVENT
END:VCALENDAR