BEGIN:VCALENDAR
VERSION:2.0
BEGIN:VEVENT
DTSTART;TZID=Europe/Stockholm:20260524T100000
DTEND;TZID=Europe/Stockholm:20260524T110000
DTSTAMP:20260422T103947
DESCRIPTION:
SEQUENCE:0
SUMMARY:Gudstjänst med Ned Modesha
UID:5765@lawebb.se
END:VEVENT
END:VCALENDAR