BEGIN:VCALENDAR
VERSION:2.0
BEGIN:VEVENT
DTSTART;TZID=Europe/Stockholm:20260603T140000
DTEND;TZID=Europe/Stockholm:20260603T150000
DTSTAMP:20260421T113326
DESCRIPTION:Öppet 14.00-17.00
SEQUENCE:0
SUMMARY:Loppis
UID:4999@lawebb.se
END:VEVENT
END:VCALENDAR