BEGIN:VCALENDAR
VERSION:2.0
BEGIN:VEVENT
DTSTART;TZID=Europe/Stockholm:20260609T190000
DTEND;TZID=Europe/Stockholm:20260609T200000
DTSTAMP:20260421T105031
DESCRIPTION:
SEQUENCE:0
SUMMARY:Bönetimman
UID:2459@lawebb.se
END:VEVENT
END:VCALENDAR