BEGIN:VCALENDAR
VERSION:2.0
BEGIN:VEVENT
DTSTART;TZID=Europe/Stockholm:20260628T140000
DTEND;TZID=Europe/Stockholm:20260628T150000
DTSTAMP:20260421T104813
DESCRIPTION:I artriet
SEQUENCE:0
SUMMARY:Sångstund på Ramundergården
UID:6952@lawebb.se
END:VEVENT
END:VCALENDAR