BEGIN:VCALENDAR
VERSION:2.0
BEGIN:VEVENT
DTSTART;TZID=Europe/Stockholm:20260630T190000
DTEND;TZID=Europe/Stockholm:20260630T200000
DTSTAMP:20260421T104445
DESCRIPTION:
SEQUENCE:0
SUMMARY:Bönetimman
UID:7629@lawebb.se
END:VEVENT
END:VCALENDAR